2.43840000
0.00000000
0.00000000
-2.43840000
499235.69957489
4553192.47673030
