2.438400
0.000000
0.000000
-2.438400
436191.579711
4636715.759397
