2.438400
0.000000
0.000000
-2.438400
404739.280985
4567695.683302
