2.438400
0.000000
0.000000
-2.438400
331076.490957
4568990.132587
