2.438400
0.000000
0.000000
-2.438400
373671.008371
4623673.828958
