2.438400
0.000000
0.000000
-2.438400
352932.099249
4624036.265876
