2.438400
0.000000
0.000000
-2.438400
363788.454955
4637669.961356
