2.43840000
0.00000000
0.00000000
-2.43840000
604953.76975233
4498603.98106923
