2.43840000
0.00000000
0.00000000
-2.43840000
583809.82046592
4498301.39904865
