2.43840000
0.00000000
0.00000000
-2.43840000
657219.34758391
4527376.89064496
