2.43840000
0.00000000
0.00000000
-2.43840000
551198.80827927
4622848.64927744
