2.438400000000
0.000000000000
0.000000000000
-2.438400000000
314311.303153378947
4722195.181055700400
