2.438400000000
0.000000000000
0.000000000000
-2.438400000000
726077.386006731540
4682127.758215878159
