2.438400000000
0.000000000000
0.000000000000
-2.438400000000
684832.465884314501
4680850.892110756598
