2.43840000
0.00000000
0.00000000
-2.43840000
643306.88147411
4693680.53674583
