2.438400000000
0.000000000000
0.000000000000
-2.438400000000
519568.920137216337
4775320.449628067203
