2.438400000000
0.000000000000
0.000000000000
-2.438400000000
468845.670813230099
4816969.816458870650
