2.438400000000
0.000000000000
0.000000000000
-2.438400000000
376937.130381576659
4776354.028122244403
