2.438400000000
0.000000000000
0.000000000000
-2.438400000000
316540.710834315800
4805477.771380918100
