2.438400000000
0.000000000000
0.000000000000
-2.438400000000
608301.691780873924
4942955.299856501631
