2.438400000000
0.000000000000
0.000000000000
-2.438400000000
499082.104793259117
4969776.408131941220
