2.438400000000
0.000000000000
0.000000000000
-2.438400000000
438932.824383725936
4886590.484127056780
