2.438400000000
0.000000000000
0.000000000000
-2.438400000000
459410.279110456467
4955855.179296988990
