2.438400000000
0.000000000000
0.000000000000
-2.438400000000
399197.765232111967
4900966.386085690930
