2.438400
0.000000
0.000000
-2.438400
368526.546116
4290654.566406
