2.438400
0.000000
0.000000
-2.438400
346930.385294
4304916.021516
