2.438400
0.000000
0.000000
-2.438400
336094.409999
4305191.399064
