2.438400
0.000000
0.000000
-2.438400
291827.895682
4278412.557356
