2.438400
0.000000
0.000000
-2.438400
303406.571805
4305848.424793
