2.438400000000
0.000000000000
0.000000000000
-2.438400000000
370233.875582896700
4387779.875642427200
