2.438400000000
0.000000000000
0.000000000000
-2.438400000000
327232.820255189440
4388618.615829531100
