2.438400000000
0.000000000000
0.000000000000
-2.438400000000
293519.676854399789
4333914.738721525290
