2.438400000000
0.000000000000
0.000000000000
-2.438400000000
306077.051020184066
4403006.394888845270
