2.438400000000
0.000000000000
0.000000000000
-2.438400000000
242606.923859285190
4432653.396720379590
