2.438400
0.000000
0.000000
-2.438400
704376.598048
4334189.306951
