2.438400
0.000000
0.000000
-2.438400
703907.802690
4348076.965781
