2.438400
0.000000
0.000000
-2.438400
733758.841014
4432274.753449
