2.438400
0.000000
0.000000
-2.438400
456381.236028
4442341.052311
