2.438400000000
0.000000000000
0.000000000000
-2.438400000000
319459.428967124025
4513752.671491728160
