2.438400000000
0.000000000000
0.000000000000
-2.438400000000
425767.756238643950
4567443.852882872300
