2.438400000000
0.000000000000
0.000000000000
-2.438400000000
436621.816241087390
4608978.086439450300
