2.438400000000
0.000000000000
0.000000000000
-2.438400000000
363315.396829490491
4596107.163458884690
