2.438400000000
0.000000000000
0.000000000000
-2.438400000000
709086.464374303818
4556532.218618184328
