2.43840000
0.00000000
0.00000000
-2.43840000
338303.75921686
3819566.21048755
