2.43840000
0.00000000
0.00000000
-2.43840000
327062.57950676
3833637.38091798
