2.43840000
0.00000000
0.00000000
-2.43840000
350243.37587726
3847101.64159789
