2.43840000
0.00000000
0.00000000
-2.43840000
235604.74530325
3849674.53994325
