2.43840000
0.00000000
0.00000000
-2.43840000
304687.77884091
3861821.99865832
