2.43840000
0.00000000
0.00000000
-2.43840000
247449.42519497
3863219.93020520
