2.43840000
0.00000000
0.00000000
-2.43840000
236002.16915902
3863539.70725872
